BEGIN:VCALENDAR
VERSION:2.0
PRODID:-//wp-events-plugin.com//7.2.3.1//EN
BEGIN:VEVENT
UID:3@prakarshaacademy.org
DTSTART:20250424T183000Z
DTEND:20250424T183000Z
DTSTAMP:20250419T174307Z
URL:https://prakarshaacademy.org/events/valedictory-ceremony/
SUMMARY:Valedictory ceremony
DESCRIPTION:
ATTACH;FMTTYPE=image/jpeg:https://prakarshaacademy.org/wp-content/uploads/
 2025/04/Valedictory-ceremony.jpg
LOCATION:Bangalore\, Bangalore\, Bangalore\, KARNATAKA\, India
X-APPLE-STRUCTURED-LOCATION;VALUE=URI;X-ADDRESS=Bangalore\, Bangalore\, KAR
 NATAKA\, India;X-APPLE-RADIUS=100;X-TITLE=Bangalore:geo:0,0
END:VEVENT
END:VCALENDAR